BEGIN:VCALENDAR
VERSION:2.0
PRODID:-//CHAMBER DASHBOARD//EVENTS CALENDAR2.0//EN
CALSCALE:GREGORIAN
BEGIN:VEVENT
DTEND:20191101
UID:69e9db5aa4191
DTSTAMP:20260423T084202Z
CATEGORIES:Cajun Music\,Carnival Rides\,Festivals
LOCATION:Basile Town Park 
DESCRIPTION:Located in Basile    Contact Justin Miller (337)305-4050 / laswinefestival@yahoo.com / www.laswinefestival.com
URL;VALUE=URI:https://www.evangelinechamber.com/event/louisiana-swine-festival-2/
SUMMARY:Louisiana Swine Festival
DTSTART:20191101
END:VEVENT
END:VCALENDAR
