BEGIN:VCALENDAR
VERSION:2.0
PRODID:-//CHAMBER DASHBOARD//EVENTS CALENDAR2.0//EN
CALSCALE:GREGORIAN
BEGIN:VEVENT
DTEND:20190709
UID:69e9db20c04df
DTSTAMP:20260423T084104Z
CATEGORIES:Louisiana Rural Economic Development Summit\,Summit
LOCATION:Paragon Casino 
DESCRIPTION:Learn more about how rural communities and businesses benefit from building relationships and creating strategic partnerships with local\, state and national leaders as well as Native American Country.    Topics will include workforce development\, financial services\, healthcare\, agriculture\, entrepreneurship and more.
URL;VALUE=URI:https://www.evangelinechamber.com/event/louisiana-rural-economic-development-summit/
SUMMARY:Louisiana Rural Economic Development Summit
DTSTART:20190707
END:VEVENT
END:VCALENDAR
