BEGIN:VCALENDAR
VERSION:2.0
PRODID:-//CHAMBER DASHBOARD//EVENTS CALENDAR2.0//EN
CALSCALE:GREGORIAN
BEGIN:VEVENT
DTEND:20180426
UID:69e91a563ee4d
DTSTAMP:20260422T185830Z
CATEGORIES:Festivals
LOCATION:Chicot State Park 3469 Chicot Park Rd, Ville Platte, LA, 70586
DESCRIPTION:
URL;VALUE=URI:https://www.evangelinechamber.com/event/le-grand-hoorah/
SUMMARY:Le Grand Hoorah
DTSTART:20180420
END:VEVENT
END:VCALENDAR
