BEGIN:VCALENDAR
VERSION:2.0
PRODID:-//CHAMBER DASHBOARD//EVENTS CALENDAR2.0//EN
CALSCALE:GREGORIAN
BEGIN:VEVENT
DTEND:20180707T233000Z
UID:69e908d621a83
DTSTAMP:20260422T174350Z
CATEGORIES:Cajun Music
LOCATION:Lakeview Park 
DESCRIPTION:Sat Jul 7th 4:00pm - 6:30pm    Beach\, 1717 Veteran Memorial Hwy\, Eunice\, LA 70535\, USA       Check out their website for additional information:  www.lvpark.com
URL;VALUE=URI:https://www.evangelinechamber.com/event/dikki-du-the-zydeco-krewe-on-the-beach/
SUMMARY:Dikki Du &amp\; The Zydeco Krewe on the Beach
DTSTART:20180707T210000Z
END:VEVENT
END:VCALENDAR
