BEGIN:VCALENDAR
VERSION:2.0
PRODID:-//CHAMBER DASHBOARD//EVENTS CALENDAR2.0//EN
CALSCALE:GREGORIAN
BEGIN:VEVENT
DTEND:20190407
UID:69e8d59851475
DTSTAMP:20260422T140512Z
CATEGORIES:Cajun Music\,Carnival Rides\,Family Fun Day\,Festivals
LOCATION:Boggy Bayou Festival Grounds 
DESCRIPTION:Located in Pine Prairie    Contact Sandra Book (337)599-2031 or Bernice Ardoin (brody06@centurytel.net) for more information.    &nbsp\;
URL;VALUE=URI:https://www.evangelinechamber.com/event/boggy-bayou-festival/
SUMMARY:Boggy Bayou Festival
DTSTART:20190404
END:VEVENT
END:VCALENDAR
