BEGIN:VCALENDAR
VERSION:2.0
PRODID:-//CHAMBER DASHBOARD//EVENTS CALENDAR2.0//EN
CALSCALE:GREGORIAN
BEGIN:VEVENT
DTEND:20190305
UID:69eb3dfdc1cfc
DTSTAMP:20260424T095509Z
CATEGORIES:Cajun Music\,Dance\,Festivals\,Holiday
LOCATION:Basile Town Park 
DESCRIPTION:Located in Basile    Contact Russell "Potic" Rider (337)432-5569\, Joey Cortez (337)580-9997\, or Cheryl Young (337)523-9190 for more information.
URL;VALUE=URI:https://www.evangelinechamber.com/event/basile-mardi-gras-celebration/
SUMMARY:Basile Mardi Gras Celebration
DTSTART:20190305
END:VEVENT
END:VCALENDAR
