BEGIN:VCALENDAR
VERSION:2.0
PRODID:-//CHAMBER DASHBOARD//EVENTS CALENDAR2.0//EN
CALSCALE:GREGORIAN
BEGIN:VEVENT
DTEND:20191202T023000Z
UID:69e4edb0ca53b
DTSTAMP:20260419T145856Z
CATEGORIES:Chamber Social
LOCATION:Cafe' Evangeline 
DESCRIPTION:Annual Christmas Social  RSVP @ 363-1878 or cajun2@vpchamber-tourism.org  Enjoy Food\, Drinks\, Christmas Lights\, and in conjunction with The Annual Chamber's Christmas Parade\, and City of Ville Platte's Lighting of the Tree!  * Cash Bar  * Dress in Holiday Attire
URL;VALUE=URI:https://www.evangelinechamber.com/event/2019-evangeline-chamber-of-commerce-christmas-social/
SUMMARY:2019 Evangeline Chamber of Commerce Christmas Social
DTSTART:20191201T233000Z
END:VEVENT
END:VCALENDAR
